BEGIN:VCALENDAR
VERSION:2.0
PRODID:-//eventon.com NONSGML v1.0//EN
CALSCALE:GREGORIAN
METHOD:PUBLISH
BEGIN:VEVENT
UID:69e72f43864fa
DTSTAMP:20260421T080315Z
DTSTART:20250705T230000Z
DTEND:20250706T020000Z
LOCATION:
SUMMARY:Fireworks & VA Sprints Bubba N Franks Race Night
DESCRIPTION:\nhttps://langley-speedway.com/events/fireworks-va-sprints-race
 -night/
URL:https://langley-speedway.com/events/fireworks-va-sprints-race-night/
END:VEVENT
END:VCALENDAR