BEGIN:VCALENDAR
VERSION:2.0
PRODID:-//eventon.com NONSGML v1.0//EN
CALSCALE:GREGORIAN
METHOD:PUBLISH
BEGIN:VEVENT
UID:69e4ee3e5f7da
DTSTAMP:20260419T150118Z
DTSTART:20220521T230000Z
DTEND:20220522T030000Z
LOCATION:Langley Speedway
SUMMARY:Sky4 Race Night | Superstition Night
DESCRIPTION:\nhttps://langley-speedway.com/events/weekly-racing-may-21-2022
 /
URL:https://langley-speedway.com/events/weekly-racing-may-21-2022/
END:VEVENT
END:VCALENDAR