BEGIN:VCALENDAR
VERSION:2.0
PRODID:-//eventon.com NONSGML v1.0//EN
CALSCALE:GREGORIAN
METHOD:PUBLISH
BEGIN:VEVENT
UID:69e4edcfdf100
DTSTAMP:20260419T145927Z
DTSTART:20170812T170000Z
DTEND:20170812T183000Z
LOCATION:Langley Speedway
SUMMARY:Mullins Sisters
DESCRIPTION:Mullins Sisters\nhttps://langley-speedway.com/events/mullins-si
 sters/
URL:https://langley-speedway.com/events/mullins-sisters/
END:VEVENT
END:VCALENDAR